BEGIN:VCALENDAR
VERSION:2.0
PRODID:spatie/icalendar-generator
NAME:South High Spartan Band and Color Guard Calendar
X-WR-CALNAME:South High Spartan Band and Color Guard Calendar
REFRESH-INTERVAL;VALUE=DURATION:PT30M
X-PUBLISHED-TTL:PT30M
BEGIN:VTIMEZONE
TZID:America/Los_Angeles
BEGIN:STANDARD
DTSTART:20251102T010000
TZOFFSETFROM:-0700
TZOFFSETTO:-0800
END:STANDARD
BEGIN:DAYLIGHT
DTSTART:20260308T010000
TZOFFSETFROM:-0800
TZOFFSETTO:-0700
END:DAYLIGHT
BEGIN:STANDARD
DTSTART:20261101T010000
TZOFFSETFROM:-0700
TZOFFSETTO:-0800
END:STANDARD
BEGIN:DAYLIGHT
DTSTART:20270314T010000
TZOFFSETFROM:-0800
TZOFFSETTO:-0700
END:DAYLIGHT
END:VTIMEZONE
BEGIN:VTIMEZONE
TZID:UTC
BEGIN:STANDARD
DTSTART:20250725T093235
TZOFFSETFROM:+0000
TZOFFSETTO:+0000
END:STANDARD
END:VTIMEZONE
BEGIN:VEVENT
UID:event-462257@southhighband.boosterhub.com
DTSTAMP:20260421T093235Z
SUMMARY:No School - Memorial Day
DESCRIPTION:
LOCATION:
X-MICROSOFT-CDO-ALLDAYEVENT:TRUE
DTSTART;TZID=America/Los_Angeles;VALUE=DATE:20260525
DTEND;TZID=America/Los_Angeles;VALUE=DATE:20260526
END:VEVENT
BEGIN:VEVENT
UID:event-462258@southhighband.boosterhub.com
DTSTAMP:20260421T093235Z
SUMMARY:Last Day of School
DESCRIPTION:
LOCATION:
X-MICROSOFT-CDO-ALLDAYEVENT:TRUE
DTSTART;TZID=America/Los_Angeles;VALUE=DATE:20260611
DTEND;TZID=America/Los_Angeles;VALUE=DATE:20260612
END:VEVENT
BEGIN:VEVENT
UID:event-474333@southhighband.boosterhub.com
DTSTAMP:20260421T093235Z
SUMMARY:Spartan Sound Bites
DESCRIPTION:
LOCATION:SHS Cafe
DTSTART;TZID=America/Los_Angeles:20260429T183000
DTEND;TZID=America/Los_Angeles:20260429T203000
END:VEVENT
BEGIN:VEVENT
UID:event-474340@southhighband.boosterhub.com
DTSTAMP:20260421T093235Z
SUMMARY:Sound Bites Rehearsal
DESCRIPTION:
LOCATION:SHS Cafe
DTSTART;TZID=America/Los_Angeles:20260427T153000
DTEND;TZID=America/Los_Angeles:20260427T173000
END:VEVENT
BEGIN:VEVENT
UID:event-474341@southhighband.boosterhub.com
DTSTAMP:20260421T093235Z
SUMMARY:Armed Forces Parade Rehearsal
DESCRIPTION:
LOCATION:SHS Football Field
DTSTART;TZID=America/Los_Angeles:20260507T180000
DTEND;TZID=America/Los_Angeles:20260507T193000
END:VEVENT
BEGIN:VEVENT
UID:event-474342@southhighband.boosterhub.com
DTSTAMP:20260421T093235Z
SUMMARY:Armed Forces Parade Rehearsal
DESCRIPTION:
LOCATION:SHS Football Field
DTSTART;TZID=America/Los_Angeles:20260514T180000
DTEND;TZID=America/Los_Angeles:20260514T193000
END:VEVENT
BEGIN:VEVENT
UID:event-474343@southhighband.boosterhub.com
DTSTAMP:20260421T093235Z
SUMMARY:Armed Forces Parade
DESCRIPTION:
LOCATION:
DTSTART;TZID=America/Los_Angeles:20260516T120000
DTEND;TZID=America/Los_Angeles:20260516T153000
END:VEVENT
BEGIN:VEVENT
UID:event-474344@southhighband.boosterhub.com
DTSTAMP:20260421T093235Z
SUMMARY:Spring Concert
DESCRIPTION:
LOCATION:SHS PAC
DTSTART;TZID=America/Los_Angeles:20260527T183000
DTEND;TZID=America/Los_Angeles:20260527T210000
END:VEVENT
BEGIN:VEVENT
UID:event-474345@southhighband.boosterhub.com
DTSTAMP:20260421T093235Z
SUMMARY:Band Banquet
DESCRIPTION:
LOCATION:Los Verdes Country Club - Vista Ballroom
DTSTART;TZID=America/Los_Angeles:20260528T180000
DTEND;TZID=America/Los_Angeles:20260528T210000
END:VEVENT
BEGIN:VEVENT
UID:event-1141914@southhighband.boosterhub.com
DTSTAMP:20260421T093235Z
SUMMARY:Winter Drumline District Showcase
DESCRIPTION:
LOCATION:South High Gym. Venue has changed from Torrance High Gym to South 
 High Gym
DTSTART;TZID=America/Los_Angeles:20260420T190000
END:VEVENT
BEGIN:VEVENT
UID:event-1176597@southhighband.boosterhub.com
DTSTAMP:20260421T093235Z
SUMMARY:Booster Board Meeting
DESCRIPTION:
LOCATION:SHS Choir Room
DTSTART;TZID=America/Los_Angeles:20260518T190000
DTEND;TZID=America/Los_Angeles:20260518T210000
END:VEVENT
BEGIN:VEVENT
UID:event-1176598@southhighband.boosterhub.com
DTSTAMP:20260421T093235Z
SUMMARY:Booster Board Meeting
DESCRIPTION:
LOCATION:SHS Choir Room
DTSTART;TZID=America/Los_Angeles:20260615T190000
DTEND;TZID=America/Los_Angeles:20260615T210000
END:VEVENT
BEGIN:VEVENT
UID:event-1176599@southhighband.boosterhub.com
DTSTAMP:20260421T093235Z
SUMMARY:Summer Band - ALL Members
DESCRIPTION:<p><br></p><p><br></p>
LOCATION:SHS Band Room
DTSTART;TZID=America/Los_Angeles:20260615T180000
DTEND;TZID=America/Los_Angeles:20260615T210000
END:VEVENT
BEGIN:VEVENT
UID:event-1176600@southhighband.boosterhub.com
DTSTAMP:20260421T093235Z
SUMMARY:Summer Band - NEW Members\, Guard\, Perc
DESCRIPTION:<p><br></p><p><br></p>
LOCATION:SHS Band Room
DTSTART;TZID=America/Los_Angeles:20260616T180000
DTEND;TZID=America/Los_Angeles:20260616T210000
END:VEVENT
BEGIN:VEVENT
UID:event-1178643@southhighband.boosterhub.com
DTSTAMP:20260421T093235Z
SUMMARY:Home Game vs Paramount (PICTURE DAY)
DESCRIPTION:<p><br></p>
LOCATION:
DTSTART;TZID=America/Los_Angeles:20260911T173000
DTEND;TZID=America/Los_Angeles:20260911T213000
END:VEVENT
BEGIN:VEVENT
UID:event-1178644@southhighband.boosterhub.com
DTSTAMP:20260421T093235Z
SUMMARY:PICTURE DAY
DESCRIPTION:<p><strong style=\"color: rgb(0\, 0\, 0)\; background-color: tr
 ansparent\;\">Expect to stay after school and stay for the game - bring fo
 od/money for dinner</strong></p><p>Volunteer Link TBD</p>
LOCATION:
DTSTART;TZID=America/Los_Angeles:20260911T153000
DTEND;TZID=America/Los_Angeles:20260911T173000
END:VEVENT
BEGIN:VEVENT
UID:event-1178645@southhighband.boosterhub.com
DTSTAMP:20260421T093235Z
SUMMARY:Home Game vs Adelanto
DESCRIPTION:<p><br></p>
LOCATION:
DTSTART;TZID=America/Los_Angeles:20260918T173000
DTEND;TZID=America/Los_Angeles:20260918T213000
END:VEVENT
BEGIN:VEVENT
UID:event-1178646@southhighband.boosterhub.com
DTSTAMP:20260421T093235Z
SUMMARY:Home Game vs West Torrance
DESCRIPTION:<p><br></p>
LOCATION:
DTSTART;TZID=America/Los_Angeles:20260925T173000
DTEND;TZID=America/Los_Angeles:20260925T213000
END:VEVENT
BEGIN:VEVENT
UID:event-1178647@southhighband.boosterhub.com
DTSTAMP:20260421T093235Z
SUMMARY:Home Game vs Beverly Hills (HOMECOMING)
DESCRIPTION:<p><br></p>
LOCATION:
DTSTART;TZID=America/Los_Angeles:20261009T173000
DTEND;TZID=America/Los_Angeles:20261009T213000
END:VEVENT
BEGIN:VEVENT
UID:event-1178648@southhighband.boosterhub.com
DTSTAMP:20260421T093235Z
SUMMARY:WHS Invitational
DESCRIPTION:<p>To volunteer\, please sign up using the following link - (TB
 D)</p>
LOCATION:West High School
X-MICROSOFT-CDO-ALLDAYEVENT:TRUE
DTSTART;TZID=America/Los_Angeles;VALUE=DATE:20261003
DTEND;TZID=America/Los_Angeles;VALUE=DATE:20261004
END:VEVENT
BEGIN:VEVENT
UID:event-1178649@southhighband.boosterhub.com
DTSTAMP:20260421T093235Z
SUMMARY:No School - Labor Day
DESCRIPTION:
LOCATION:
X-MICROSOFT-CDO-ALLDAYEVENT:TRUE
DTSTART;TZID=America/Los_Angeles;VALUE=DATE:20260907
DTEND;TZID=America/Los_Angeles;VALUE=DATE:20260908
END:VEVENT
BEGIN:VEVENT
UID:event-1178650@southhighband.boosterhub.com
DTSTAMP:20260421T093235Z
SUMMARY:No School - Veteran's Day
DESCRIPTION:
LOCATION:
X-MICROSOFT-CDO-ALLDAYEVENT:TRUE
DTSTART;TZID=America/Los_Angeles;VALUE=DATE:20261111
DTEND;TZID=America/Los_Angeles;VALUE=DATE:20261112
END:VEVENT
BEGIN:VEVENT
UID:event-1178651@southhighband.boosterhub.com
DTSTAMP:20260421T093235Z
SUMMARY:No School - Student Free Day
DESCRIPTION:
LOCATION:
X-MICROSOFT-CDO-ALLDAYEVENT:TRUE
DTSTART;TZID=America/Los_Angeles;VALUE=DATE:20260921
DTEND;TZID=America/Los_Angeles;VALUE=DATE:20260922
END:VEVENT
BEGIN:VEVENT
UID:event-1178652@southhighband.boosterhub.com
DTSTAMP:20260421T093235Z
SUMMARY:No School - Student Free Day
DESCRIPTION:
LOCATION:
X-MICROSOFT-CDO-ALLDAYEVENT:TRUE
DTSTART;TZID=America/Los_Angeles;VALUE=DATE:20261002
DTEND;TZID=America/Los_Angeles;VALUE=DATE:20261003
END:VEVENT
BEGIN:VEVENT
UID:event-1178653@southhighband.boosterhub.com
DTSTAMP:20260421T093235Z
SUMMARY:No School - Student Free Day
DESCRIPTION:
LOCATION:
X-MICROSOFT-CDO-ALLDAYEVENT:TRUE
DTSTART;TZID=America/Los_Angeles;VALUE=DATE:20261016
DTEND;TZID=America/Los_Angeles;VALUE=DATE:20261017
END:VEVENT
BEGIN:VEVENT
UID:event-1178654@southhighband.boosterhub.com
DTSTAMP:20260421T093235Z
SUMMARY:No School - Thanksgiving Break
DESCRIPTION:
LOCATION:
X-MICROSOFT-CDO-ALLDAYEVENT:TRUE
DTSTART;TZID=America/Los_Angeles;VALUE=DATE:20261123
DTEND;TZID=America/Los_Angeles;VALUE=DATE:20261128
END:VEVENT
BEGIN:VEVENT
UID:event-1179798@southhighband.boosterhub.com
DTSTAMP:20260421T093235Z
SUMMARY:Battery Percussion Rehearsal
DESCRIPTION:
LOCATION:North High School Band Room
DTSTART;TZID=America/Los_Angeles:20260430T180000
DTEND;TZID=America/Los_Angeles:20260430T200000
END:VEVENT
BEGIN:VEVENT
UID:event-1179799@southhighband.boosterhub.com
DTSTAMP:20260421T093235Z
SUMMARY:Armed Forces Parade Rehearsal
DESCRIPTION:
LOCATION:Zamperini Stadium
DTSTART;TZID=America/Los_Angeles:20260501T090000
DTEND;TZID=America/Los_Angeles:20260501T120000
END:VEVENT
BEGIN:VEVENT
UID:event-1179868@southhighband.boosterhub.com
DTSTAMP:20260421T093235Z
SUMMARY:Silent Command Leadership Camp
DESCRIPTION:<p>Registration Link: https://silentcommand.org/clinics/p/calif
 ornia-2026 </p>
LOCATION:
DTSTART;TZID=America/Los_Angeles:20260613T090000
DTEND;TZID=America/Los_Angeles:20260613T170000
END:VEVENT
END:VCALENDAR